BEGIN:VCALENDAR
VERSION:2.0
PRODID:-//Boka event - ECPv6.15.20//NONSGML v1.0//EN
CALSCALE:GREGORIAN
METHOD:PUBLISH
X-WR-CALNAME:Boka event
X-ORIGINAL-URL:https://event.streamshed.se
X-WR-CALDESC:Events for Boka event
REFRESH-INTERVAL;VALUE=DURATION:PT1H
X-Robots-Tag:noindex
X-PUBLISHED-TTL:PT1H
BEGIN:VTIMEZONE
TZID:Europe/Stockholm
BEGIN:DAYLIGHT
TZOFFSETFROM:+0100
TZOFFSETTO:+0200
TZNAME:CEST
DTSTART:20200329T010000
END:DAYLIGHT
BEGIN:STANDARD
TZOFFSETFROM:+0200
TZOFFSETTO:+0100
TZNAME:CET
DTSTART:20201025T010000
END:STANDARD
BEGIN:DAYLIGHT
TZOFFSETFROM:+0100
TZOFFSETTO:+0200
TZNAME:CEST
DTSTART:20210328T010000
END:DAYLIGHT
BEGIN:STANDARD
TZOFFSETFROM:+0200
TZOFFSETTO:+0100
TZNAME:CET
DTSTART:20211031T010000
END:STANDARD
BEGIN:DAYLIGHT
TZOFFSETFROM:+0100
TZOFFSETTO:+0200
TZNAME:CEST
DTSTART:20220327T010000
END:DAYLIGHT
BEGIN:STANDARD
TZOFFSETFROM:+0200
TZOFFSETTO:+0100
TZNAME:CET
DTSTART:20221030T010000
END:STANDARD
BEGIN:DAYLIGHT
TZOFFSETFROM:+0100
TZOFFSETTO:+0200
TZNAME:CEST
DTSTART:20230326T010000
END:DAYLIGHT
BEGIN:STANDARD
TZOFFSETFROM:+0200
TZOFFSETTO:+0100
TZNAME:CET
DTSTART:20231029T010000
END:STANDARD
END:VTIMEZONE
BEGIN:VEVENT
DTSTART;TZID=Europe/Stockholm:20220113T090000
DTEND;TZID=Europe/Stockholm:20220113T170000
DTSTAMP:20260419T145218
CREATED:20211004T091521Z
LAST-MODIFIED:20211004T092226Z
UID:933-1642064400-1642093200@event.streamshed.se
SUMMARY:Certifieringsförnyelsekonferens
DESCRIPTION:Anmälan till certifieringsförnyelsekonferens\nProgram: \n\nFörändringar från LD21\nSjälvskattningstest\nWorkshop 3 h\n\nLogi och mat: \n\nDagpaket plus middag 17:30 till självkostnadspris\n\nDatum: 13/1 2022\nPlats:  Best Western Plus Park Airport Hotel
URL:https://event.streamshed.se/event/certifieringsfornyelsekonferens/
LOCATION:Best Western Plus Park Airport Hotel\, Bristagatan 16\, Arlandastad\, Arlandastad\, 190 60\, Sverige
ORGANIZER;CN="RO-Avdelningen":MAILTO:ro@sd.se
END:VEVENT
BEGIN:VEVENT
DTSTART;TZID=Europe/Stockholm:20211125T190000
DTEND;TZID=Europe/Stockholm:20211128T160000
DTSTAMP:20260419T145218
CREATED:20210826T101853Z
LAST-MODIFIED:20211001T114004Z
UID:244-1637866800-1638115200@event.streamshed.se
SUMMARY:Anmälan till Landsdagarna 2021
DESCRIPTION:Anmälan till Landsdagarna 2021\nDatum: 25-28/11 2021\nPlats: Karlstad CCC\nDeltagaravgift: 5 000 kr \nVid beställning av biljetter för flera deltagare\, fyll i information om samtliga deltagare.\nInstruktionsfilm: Så här gör du en beställning (filmen öppnas i ett nytt fönster)
URL:https://event.streamshed.se/event/landsdagarna2021/
LOCATION:Karlstad CCC\, Tage Erlandergatan 8\, 652 20 Karlstad\, Karlstad\, Sverige
CATEGORIES:Kongress
ATTACH;FMTTYPE=image/png:https://event.streamshed.se/wp-content/uploads/2021/08/Namnlos-design-7.png
ORGANIZER;CN="Kongressbyr%C3%A5n":MAILTO:cecilia.risberg@sd.se
END:VEVENT
BEGIN:VEVENT
DTSTART;TZID=Europe/Stockholm:20211114T080000
DTEND;TZID=Europe/Stockholm:20220306T170000
DTSTAMP:20260419T145218
CREATED:20211108T164226Z
LAST-MODIFIED:20220222T154958Z
UID:1258-1636876800-1646586000@event.streamshed.se
SUMMARY:Testar
DESCRIPTION:testevent
URL:https://event.streamshed.se/event/testar/
END:VEVENT
BEGIN:VEVENT
DTSTART;TZID=Europe/Stockholm:20211019T090000
DTEND;TZID=Europe/Stockholm:20211020T160000
DTSTAMP:20260419T145218
CREATED:20211001T064505Z
LAST-MODIFIED:20211004T092152Z
UID:867-1634634000-1634745600@event.streamshed.se
SUMMARY:Certifieringskonferens NYA
DESCRIPTION:Anmälan till certifieringskonferens\nBokning endast för representanter beslutade från respektive distriktsstyrelse. \nDatum: 19-20/10\nPlats: Best Western Plus Park Airport Hotel
URL:https://event.streamshed.se/event/certifieringskonferens-nya/
LOCATION:Best Western Plus Park Airport Hotel\, Bristagatan 16\, Arlandastad\, Arlandastad\, 190 60\, Sverige
CATEGORIES:Träff
ORGANIZER;CN="RO-Avdelningen":MAILTO:ro@sd.se
END:VEVENT
BEGIN:VEVENT
DTSTART;VALUE=DATE:20211016
DTEND;VALUE=DATE:20211017
DTSTAMP:20260419T145218
CREATED:20210928T105652Z
LAST-MODIFIED:20211001T064922Z
UID:690-1634342400-1634428799@event.streamshed.se
SUMMARY:KO-Träff
DESCRIPTION:Anmälan till KO-Träff\nDatum: 16/10 2021\nPlats: Stockholm City Conference Center
URL:https://event.streamshed.se/event/ko-traff/
LOCATION:Stockholm City Conference Center\, Drottninggatan 71B\, Stockholm\, Stockholm\, 111 36\, Sverige
CATEGORIES:Träff
ORGANIZER;CN="RO-Avdelningen":MAILTO:ro@sd.se
END:VEVENT
END:VCALENDAR